BEGIN:VCALENDAR
VERSION:2.0
PRODID:-//WP EVENT Manager Ical//NONSGML Events//EN
CALSCALE:GREGORIAN
BEGIN:VTIMEZONE
TZID:Asia/Kolkata
BEGIN:STANDARD
DTSTART:19700101T000000
TZOFFSETFROM:+0530
TZOFFSETTO:+0530
END:STANDARD
END:VTIMEZONE
BEGIN:VEVENT
UID:69ea262f49f5a@joyfulpath.org
DTSTAMP:20260423T140119Z
DTSTART;TZID=Asia/Kolkata:20251206T060000
DTEND;TZID=Asia/Kolkata:20251207T060000
LOCATION:2407 Allied Drive
SUMMARY:24-hour Mahayana Vows
DESCRIPTION:Join us as we take&nbsp;24-hour Mahayana Vows with guidance from our&nbsp;teacher Domo Geshe Rinpoche. The 24-Hour&nbsp;Mahayana Vows often help to strengthen and deepen&nbsp;your meditation practice. The day can serve as a&nbsp;short retreat or the opportunity for purification and&nbsp;merit-building. Whether you approach the 24-hr vows&nbsp;from a place of spiritual inquiry or one of deepening&nbsp;your commitment to your spiritual&nbsp;path, you will find&nbsp;support and encouragement at&nbsp;Joyful&nbsp;Path. &nbsp;We will spend the day in contemplation, with mindful&nbsp;attention to all our activities. We’ll have a communal meal before midday and fast until the next morning.&nbsp;&nbsp;Once you take the vows with supervision, you can&nbsp;then take them on your own.&nbsp;This event is available both in person and online.&nbsp;Join us for the day or&nbsp; stay overnight—accommodations are available. Please contact us to arrange accommodations.
END:VEVENT
END:VCALENDAR